BEGIN:VCALENDAR
VERSION:2.0
PRODID:-//La Marea - Biodinamica Craniosacrale - ECPv6.15.20//NONSGML v1.0//EN
CALSCALE:GREGORIAN
METHOD:PUBLISH
X-ORIGINAL-URL:https://www.craniosacralelamarea.it
X-WR-CALDESC:Eventi per La Marea - Biodinamica Craniosacrale
REFRESH-INTERVAL;VALUE=DURATION:PT1H
X-Robots-Tag:noindex
X-PUBLISHED-TTL:PT1H
BEGIN:VTIMEZONE
TZID:Europe/Rome
BEGIN:DAYLIGHT
TZOFFSETFROM:+0100
TZOFFSETTO:+0200
TZNAME:CEST
DTSTART:20240331T010000
END:DAYLIGHT
BEGIN:STANDARD
TZOFFSETFROM:+0200
TZOFFSETTO:+0100
TZNAME:CET
DTSTART:20241027T010000
END:STANDARD
BEGIN:DAYLIGHT
TZOFFSETFROM:+0100
TZOFFSETTO:+0200
TZNAME:CEST
DTSTART:20250330T010000
END:DAYLIGHT
BEGIN:STANDARD
TZOFFSETFROM:+0200
TZOFFSETTO:+0100
TZNAME:CET
DTSTART:20251026T010000
END:STANDARD
BEGIN:DAYLIGHT
TZOFFSETFROM:+0100
TZOFFSETTO:+0200
TZNAME:CEST
DTSTART:20260329T010000
END:DAYLIGHT
BEGIN:STANDARD
TZOFFSETFROM:+0200
TZOFFSETTO:+0100
TZNAME:CET
DTSTART:20261025T010000
END:STANDARD
BEGIN:DAYLIGHT
TZOFFSETFROM:+0100
TZOFFSETTO:+0200
TZNAME:CEST
DTSTART:20270328T010000
END:DAYLIGHT
BEGIN:STANDARD
TZOFFSETFROM:+0200
TZOFFSETTO:+0100
TZNAME:CET
DTSTART:20271031T010000
END:STANDARD
END:VTIMEZONE
BEGIN:VEVENT
DTSTART;VALUE=DATE:20250515
DTEND;VALUE=DATE:20250519
DTSTAMP:20260423T025121
CREATED:20191014T155655Z
LAST-MODIFIED:20250308T115749Z
UID:4786-1747267200-1747612799@www.craniosacralelamarea.it
SUMMARY:L'EMBRIONE IN NOIL'uomo come embrionecon Jaap van der Wal MD PhD - Maggio 2025
DESCRIPTION:26 CREDITI ECM\nMorfologie e Biodinamiche dello sviluppo embrionale come gesto e il ruolo della fascia come organo dell’interiorità.\nUn seminario di quattro giorni\, una rara opportunità di ascoltare un’autorità mondiale che porta ormai da molti anni e in tutto il mondo il frutto della sua ricerca sull’embrione\, integrando lo studio delle forme proprio dell’embriologia tradizionale con una visione fenomenologica delle dinamiche dello sviluppo\, arrivando così ad una sintesi unica e affascinante tra scienza e principi spirituali. Questo corso esplora lo sviluppo prenatale e il prendere forma del corpo\, la morfogenesi\, questi due aspetti esprimono le caratteristiche essenziali per lo sviluppo dell’essere umano nella materia\, nello spirito\, nel corpo e nella mente.\nIl metodo scientifico della fenomenologia ci apre ad una nuova comprensione profondamente olistica dell’essere umano. Seguendo il processo di formazione dell’embrione umano\, il corso chiarirà temi come lo sviluppo sano\, lo scopo e la saggezza insite nella forma umana fino al profondo significato dell’esistenza. L’embrione come unità psicosomatica di Spirito e Materia\, Mente e Corpo. Come diceva Andrew Taylor Still: “L’uomo è Mente\, Movimento e Materia” Nello sviluppo embrionale abbiamo a che fare con qualcosa che può essere definito come “ancora funzionale nelle forme”.\nQuesto significa che i gesti di crescita e sviluppo che l’embrione umano “per-forma” o compie\, possono essere capiti ed interpretati come comportamento umano. Una sorta di pre-esercizio di quel che poi saranno funzioni fisiologiche e psicologiche.   \n“Il corpo si sviluppa da noi non noi da lui.  \nSiamo delle api e il nostro corpo è l’alveare. \nNoi abbiamo fatto il corpo\, \nlo abbiamo fatto cellula dopo cellula” Rumi  \nIl corpo umano crea la sua forma durante lo sviluppo embrionale\, in un processo continuo di cambiamento e metamorfosi. Usando l’approccio fenomenologico è possibile capire questi gesti come comportamento umano. Questi gesti sono anche un eco ed una ricapitolazione dei gesti di sviluppo dell’uomo come specie. In questo modo la biografia e la biologia si incontrano. L’esistenza embrionale non è una semplice fase passata della nostra vita\, l’embrione esiste ancora dentro di noi: nella nostra esistenza inconscia e nel corpo che agisce come anima. Nella globalità del suo sviluppo l’embrione è l’espressione dell’essere\, che è in grado di mediare tra “cielo” (forze celesti) e “Terra” (forze terrestri) e che\, come tutti gli esseri viventi esiste nella respirazione tra Chaos (movimento\, processo\, tempo) e Cosmo (forma\, struttura\, spazio).  Jaap  \nDOCENTE: Jaap Van der Wal MD PhD \nJaap van der Wal è medico ed è stato professore associato in Anatomia ed Embriologia all’Università di Maastricht\, Paesi Bassi. Dopo la laurea in medicina nel 1973 si è specializzato in anatomia funzionale e sviluppo dell’apparato locomotore con riguardo particolare alla propriocezione ovvero il senso di percezione della locomozione e della posizione corporea. In seguito si è dedicato all’insegnamento in Filosofia della Scienza e Antropologia medica. \n“La mia passione tuttavia era e tuttora rimane l’embriologia umana. Il corpo umano è un processo\, che si sviluppa e funziona nel tempo. L’embrione si muove\, si comporta in forme. È in quest’area che ho incontrato l’antroposofia. Applico il metodo della morfologia dinamica per comprendere quello che realmente facciamo come esseri umani allo stadio embrionale. Con questo approccio ho scoperto che per me scienza e religione\, materia e spirito\, macrocosmo e microcosmo\, creazione ed evoluzione s’incontrano l’un l’altro nel processo fenomenale del divenire umano. Rispetto a ciò trovo nell’embrione significative risposte a domande circa il significato dell’esistenza umana”.  \n QUANDO: DAL 15 AL 18 MAGGIO 2025 \nDOVE: Scuola di Osteopatia SOFI\, GOLF Via dell’Edera\, 29 – 56128  TIRRENIA – (PI) \nCOSTI:  \n490\,00 euro+iva (597\,80 euro)\n390\,00 euro+iva (475\,80 euro) per chi ha partecipato già ad una delle scorse edizioni50\,00 euro + iva  (61\,00 euro) da aggiungere al costo\, per coloro che richiedono i crediti ECMMODALITA’ DI PAGAMENTO:\nA mezzo bonifico bancario a favore di: \nIstituto Craniosacrale La Marea – Unicredit Banca\, Filiale di Treviso sede ospedale\nIBAN IT91W0200812015000101690911 \nCausale: Corso “L’embrione in noi – l’uomo come embrione 2025” \nconvenzione alberghiera Gran Hotel Golf Tirrenia \n A CHI SI RIVOLGE:Il seminario è rivolto a operatori craniosacrali\, osteopati\, medici\, antroposofi\, ostetriche/ci\, infermieri\, fisioterapisti\, operatori delle discipline bionaturali e a chi intende approfondire lo studio e la conoscenza dello sviluppo embrionale e che riconosce che la nostra esistenza prenatale gioca un ruolo fondamentale nella salute. \n \n \n \n  \n\nPer informazioni contattateci alla mail o al  +39 3923189040 \nanche via WhatsAppo Telegram \n\nSarà nostra cura risponderti prima possibile!\n  \n\nIN COLLABORAZIONE con
URL:https://www.craniosacralelamarea.it/evento/lembrione-dentro-di-noi-jaap-van-der-wal-maggio-2025/
LOCATION:Scuola di Osteopatia SOFI\, via dell'edera 29\, TIRRENIA - PISA\, 56128\, Italia
CATEGORIES:Eventi
ATTACH;FMTTYPE=image/png:https://www.craniosacralelamarea.it/wp-content/uploads/2019/10/box-jaap-2025-febbraio.png
END:VEVENT
BEGIN:VEVENT
DTSTART;TZID=Europe/Rome:20250726T090000
DTEND;TZID=Europe/Rome:20250726T180000
DTSTAMP:20260423T025121
CREATED:20210628T224330Z
LAST-MODIFIED:20250116T173455Z
UID:7554-1753520400-1753552800@www.craniosacralelamarea.it
SUMMARY:Stiamo coi piedi “bene” appoggiati per terra.
DESCRIPTION:Un approccio manuale delicato per il benessere del piede e non solo!\nI piedi\, questi sconosciuti\, localizzati agli antipodi della testa e nascosti nelle scarpe per quasi tutta la vita! \nIn realtà il piede è uno straordinario organo sensoriale\, e le informazioni che esso manda sono essenziali per la nostra postura\, il nostro equilibrio e il nostro benessere. \nUn appoggio difettoso del piede ha ripercussioni sul bacino e la colonna vertebrale e può causare mal di testa\, lombalgie e persino problemi nella masticazione e nel sonno. \nIn questo seminario esplorerai: \n1. L’architettura del piede e il suo appoggio nella statica e nella dinamica.\n2. Il piede come organo sensoriale e dell’equilibrio.\n3. Le zone dolorose del piede: come nascono e come possono influenzare il nostro equilibrio.\n4. Protocollo di rilassamento miofasciale e di ascolto Biodinamico del piede. \nCOSTI: 146\,40 € (120 € + iva) \nMODALITA’ DI PAGAMENTO:A mezzo bonifico bancario a favore di: Istituto Craniosacrale La Marea – Unicredit Banca\, Filiale di Treviso sede ospedale IBAN IT91W0200812015000101690911 Causale: Corso “Seminario approccio manuale al piede”   \n\nPer info e disponibilità dei posti contattateci via mail o via telefono +39 392 3189040 anche via WhatsAppo Telegram
URL:https://www.craniosacralelamarea.it/evento/stiamo-coi-piedi-bene-appoggiati-per-terra/
LOCATION:Scuola di Biodinamica Craniosacrale La Marea – Silea (TV)
CATEGORIES:Eventi
ATTACH;FMTTYPE=image/png:https://www.craniosacralelamarea.it/wp-content/uploads/2021/06/BOX-Piede-1.png
END:VEVENT
BEGIN:VEVENT
DTSTART;VALUE=DATE:20251019
DTEND;VALUE=DATE:20251021
DTSTAMP:20260423T025121
CREATED:20240517T143139Z
LAST-MODIFIED:20250324T181727Z
UID:10977-1760832000-1761004799@www.craniosacralelamarea.it
SUMMARY:La colonna vertebralee i campi fluidi embriologici
DESCRIPTION:Un approccio Biodinamico alla colonna vertebrale\nIn questo seminario impari a lavorare sulla colonna vertebrale con un orientamento alla Linea Mediana Primaria e al suo potere salutogenetico. \nNelle fasi più precoci dello sviluppo embrionale si svela l’azione organizzatrice della Linea Mediana Primaria\, dapprima attraverso la formazione della notocorda\, vero e proprio fulcro per lo sviluppo dell’embrione\, più tardi della colonna vertebrale. \nContattare la nostra colonna vertebrale con l’ascolto propriocettivo della Biodinamica Craniosacrale significa sincronizzarsi con una forza primordiale che sale attraverso i corpi vertebrali\, sorgente di autoregolazione\, per riconnetterci con il nostro progetto biologico di Salute. \nPROGRAMMA:\n1) Embriogenesi della colonna vertebrale\, anatomia e fisiologia \n2) Anatomia palpatoria\, facciamo amicizia con i reperi della colonna \n2) La Linea Mediana Primaria e la notocorda \n3) Apprendimento di tecniche energetiche sui segmenti spinali della colonna \n4) Ci orientiamo ai campi fluidi embrionali \n5) Bilanciamento delle cerniere COSTI: per conoscere i costi e la disponibilità dei posti\,  contattaci alla nostra mail o via telefono +39 392 3189040 anche con WhatsAppo Telegram
URL:https://www.craniosacralelamarea.it/evento/colonna-vertebrale-2025/
LOCATION:Scuola di Biodinamica Craniosacrale La Marea – Silea (TV)
CATEGORIES:Eventi
ATTACH;FMTTYPE=image/png:https://www.craniosacralelamarea.it/wp-content/uploads/2024/05/box-evento-colonna-sito2.png
END:VEVENT
BEGIN:VEVENT
DTSTART;TZID=Europe/Rome:20251030T203000
DTEND;TZID=Europe/Rome:20251030T220000
DTSTAMP:20260423T025121
CREATED:20250616T084118Z
LAST-MODIFIED:20251024T090856Z
UID:11592-1761856200-1761861600@www.craniosacralelamarea.it
SUMMARY:SUONESTESIA
DESCRIPTION:&nbspPRENOTA IL TUO POSTO &nbsp\n	\n	\n		\n			Cellulare\n			 \n		\n	\n	\n		 Email\n \n		 \n	\n	\n	\n	\n	 \n\n\n\n\nSe hai bisogno di ulteriori informazioni\, contattaci con un messaggio tramite WhatsApp o Telegram. \nOppure invia una mail a  segreteria@craniosacralelamarea.it
URL:https://www.craniosacralelamarea.it/evento/suonestesia-la-via-del-suono-creatore/
LOCATION:Scuola di Biodinamica Craniosacrale La Marea – Silea (TV)\, via Roma 13/A\, Silea\, 31057\, Italia
CATEGORIES:Eventi
END:VEVENT
BEGIN:VEVENT
DTSTART;VALUE=DATE:20251120
DTEND;VALUE=DATE:20251123
DTSTAMP:20260423T025121
CREATED:20231113T110613Z
LAST-MODIFIED:20251106T152653Z
UID:10634-1763596800-1763855999@www.craniosacralelamarea.it
SUMMARY:2° SEMINARIO FORMAZIONE 2025-2028
DESCRIPTION:
URL:https://www.craniosacralelamarea.it/evento/2-seminario-formazione-2025-2028/
LOCATION:Scuola di Biodinamica Craniosacrale La Marea – Silea (TV)
CATEGORIES:Seminari Formazione triennale
ATTACH;FMTTYPE=image/jpeg:https://www.craniosacralelamarea.it/wp-content/uploads/2023/09/photo_2023-09-16_17-23-20.jpg
END:VEVENT
BEGIN:VEVENT
DTSTART;TZID=Europe/Rome:20251218T203000
DTEND;TZID=Europe/Rome:20251218T220000
DTSTAMP:20260423T025121
CREATED:20241126T180754Z
LAST-MODIFIED:20251106T153033Z
UID:11173-1766089800-1766095200@www.craniosacralelamarea.it
SUMMARY:Natale 2025 con Giovanni Betto
DESCRIPTION:“La Marea” non è solo Scuola di Biodinamica Craniosacrale\, ma è anche una casa ricca di significati\, condivisioni\, linguaggi\, interessi e creatività; anche quest’anno\, per augurarvi un sereno Natale\, vi invitiamo allo spettacolo del nostro amico e attore professionista Giovanni Betto. IL RIDI-READING – Omaggio a Stefano Benni. ➡️ GIOVEDì 18 DICEMBRE dalle ore 20:30 \nUn reading dedicato alla fantasia sfrenata di Stefano Benni\, autore fra i più amati della letteratura italiana contemporanea. \nDalle pagine dei suoi racconti e romanzi emergono personaggi surreali\, situazioni paradossali e una comicità esilarante ma profonda\, che ci fa ridere e riflettere allo stesso tempo. \nStefano Benni (Bologna\, 12 agosto 1947 – 9 settembre 2025) è stato uno dei più originali e amati scrittori\, poeti\, giornalisti e drammaturghi italiani. \nLa sua produzione letteraria spazia dai racconti ai romanzi\, dalle ballate al teatro\, con uno stile caratterizzato da invenzioni linguistiche\, ironia pungente e fantasia a rotta di collo. \nGiovanni Betto se ne fa interprete e presta la sua voce e il suo mestiere per rendere omaggio a questo grande autore che ci ha appena lasciato. \nPer sostenere la serata abbiamo previsto un contributo di 15 € a persona. \n\n\n  \n\n\n\n\n	&nbspPRENOTA IL TUO POSTO &nbsp\n	\n	\n		\n			Cellulare\n			 \n		\n	\n	\n		 Email\n \n		 \n	\n	\n	\n	\n	 \n\n\n\n\n 
URL:https://www.craniosacralelamarea.it/evento/il-ridi-reading-natale-2025/
LOCATION:Scuola di Biodinamica Craniosacrale La Marea – Silea (TV)\, via Roma 13/A\, Silea\, 31057\, Italia
CATEGORIES:Eventi
ATTACH;FMTTYPE=image/png:https://www.craniosacralelamarea.it/wp-content/uploads/2024/11/Betto-2025.png
END:VEVENT
BEGIN:VEVENT
DTSTART;VALUE=DATE:20260319
DTEND;VALUE=DATE:20260322
DTSTAMP:20260423T025121
CREATED:20210218T182000Z
LAST-MODIFIED:20251106T153234Z
UID:7190-1773878400-1774137599@www.craniosacralelamarea.it
SUMMARY:Il Respiro della Vita.
DESCRIPTION:SEMINARIO APERTO agli ESTERNI\nUn viaggio nella Biodinamica Craniosacrale\, partendo dalle nostre origini\nConoscere le nostre origini\, attraverso lo studio dell’embriologia\, osservare come si comporta l’embrione attraverso il movimento e la forma\, comprendere bene quali sono i passaggi evolutivi delle prime tre settimane della nostra vita\, ci permette di conoscere i principi della Biodinamica Craniosacrale. \nDal comportamento dell’embrione possiamo cogliere gli “indicatori” che guidano l’ascolto in Biodinamica nel corpo adulto\, il quale non perde mai la possibilità di ri-connettersi con le forze profonde che sono in gioco così precocemente. \nForze che ci plasmano quando siamo embrioni\, ma che continuano ad agire sempre per mantenerci e ripararci durante tutta la Vita. \nIn Biodinamica i sottili movimenti ritmici della Respirazione Primaria\, le Maree\, rappresentano l’espressione nel corpo di queste forze. \nDurante questo seminario teorico-esperienziale oltre allo studio dell’embriologia delle prime tre settimane\, impari a riconoscere e contattare queste forze creando così le migliori condizioni nella persona per accedere alle risorse della Salute intrinseche al corpo\, ed esprimere il proprio potenziale di autoguarigione.  PROGRAMMA DEL SEMINARIO: \n\nLe  prime tre settimane di vita\, dalla fecondazione alla formazione della notocorda\, quale principio organizzatore nello sviluppo dell’embrione.\nLa linea mediana primaria.\nIl Respiro della Vita\, le tre maree e il processo di trasmutazione.\nIl concetto di mobilità e motilità: le forze biocinetiche e le forze biodinamiche.\nI tre corpi: il corpo fisico\, il corpo fluido e il corpo energetico o di marea.\nIl rituale del contatto per una presenza cosciente dell’operatore: come espandere il campo di percezione in relazione a se stessi e all’altro\nIl cambiamento olistico: il “neutro” come vero punto di inizio del trattamento.\nAttingere alle risorse: incoraggiare gli still-point sistemici (CV4 e EV4).\nLa mappa del trattamento in Biodinamica: introduzione al piano di trattamento intrinseco di Rolling Becker.\n\nQUANDO:giovedì 19 Marzo 2026: dalle 9:00 alle 18:00;venerdì 20 Marzo 2026:: dalle 9:00 alle 18:00;sabato 21 Marzo 2026:: dalle 9:00 alle 17:00;COSTI: 475\,80 (390\,00 euro + IVA) 427\,00 (350\,00 euro + IVA) riservato agli ex-allievi della ScuolaMODALITA’ DI PAGAMENTO: A mezzo bonifico bancario a favore di: Istituto Craniosacrale La Marea – Unicredit Banca\, Filiale di Treviso sede ospedale IBAN IT91W0200812015000101690911 Causale: Corso “seminario: il Respiro della Vita 2026”  \n\nCompila il modulo ed attendi qualche istante \nla risposta di avvenuta consegna. Grazie! \nPer info e disponibilità dei posti: +39 392 3189040 anche via WhatsAppo Telegram
URL:https://www.craniosacralelamarea.it/evento/il-respiro-della-vita-2025/
LOCATION:Scuola di Biodinamica Craniosacrale La Marea – Silea (TV)\, via Roma 13/A\, Silea\, 31057\, Italia
CATEGORIES:Eventi
ATTACH;FMTTYPE=image/png:https://www.craniosacralelamarea.it/wp-content/uploads/2021/02/res2-705x340-1.png
END:VEVENT
BEGIN:VEVENT
DTSTART;VALUE=DATE:20260325
DTEND;VALUE=DATE:20260328
DTSTAMP:20260423T025121
CREATED:20210830T155938Z
LAST-MODIFIED:20250926T133912Z
UID:4485-1774396800-1774655999@www.craniosacralelamarea.it
SUMMARY:Seminario di imprinting
DESCRIPTION:Lavorare sul proprio processo di nascita e sulle proprie impronte prenatali\nDI COSA SI TRATTA\nQuesto lavoro\, nasce dalle intuizioni di William Emmerson ed è stato successivamente approfondito da Ray Castellino\, Franklin Sills e integrato da Peter Levine e Stephen Porges. Oggi viene proposto con successo da ricercatori come Dominique Degranges e da persone da lui formate.\nE’ uno strumento efficace per tutti gli operatori impegnati nella relazione d’aiuto ed è una preziosa risorsa per conoscere meglio se stessi\, sicuramente un’esperienza trasformativa valida per tutti coloro che hanno a cuore il proprio processo di “crescita”.\nLa PPN (terapia prenatale e della nascita) parte dal presupposto per cui “Così come sono nata/o così sono nel mondo”: il nostro modo di vivere la relazione con se stessi e con gli altri\, se non viene portata con consapevolezza\, è una continua ripetizione degli schemi che abbiamo creato nel periodo che va dal concepimento alla nascita. Questo perché proprio queste prime esperienze restano impresse nella memoria cellulare della persona e ne condizionano fortemente la vita diventando un’impronta\, un modello da riprodurre\, come un modo di cercare continuamente una risposta\, un completamento\, naturalmente in modo inconsapevole\, agli stimoli esterni.\nLavorare sul proprio processo di nascita dà la possibilità\, a qualsiasi età e qualsiasi sia stata l’esperienza\, di portare alla luce e di sciogliere vissuti che hanno lasciato un segno nel corpo in tempi che risalgono a una memoria pre-verbale.\nDurante il seminario ogni partecipante ha la possibilità di lavorare sul proprio processo di nascita\, di fare esperienza dei molteplici aspetti ad esso collegati e di modificare connessioni e reazioni profondamente ancorate nella propria persona. Il gruppo dei partecipanti viene considerato una sorta di “utero” ed è sempre coinvolto nel lavoro come sostegno al processo in atto. Tale esperienza è un’occasione per conoscere meglio se stessi lavorando su un proprio tema personale\, ma anche e innanzitutto un’opportunità di contattare in modo più diretto e trasparente la verità del corpo\, le sue risorse e le sue enormi potenzialità percettive\, che trovano massima espressione e conferma all’interno del gruppo.\nIl seminario sarà composto da massimo 7 partecipanti e verrà condotto dalla Dott.ssa Paola Battocchio\, coadiuvata da tre assistenti. \n DOCENTE\nPaola Battocchio: operatore di percorsi dei temi di Prenatale e Perinatale\, laureata in psicologia – specializzata in psicoterapia\, operatore di Somatic Experiencing®\, operatore NARM- modello relazionale neuroaffettivo\, Formata in Costellazioni Sistemico Spirituali con Christian R. Kraemer. \n ASSISTENTE\nRoberto Rizzardi: dottore in Infermieristica\, Istruttore di Biodinamica Craniosacrale\ncertificato A.CS.I.\, operatore in Prenatal and Birth Therapy e in Baby Therapy Training. Operatore di Somatic Experiencing® \n Info & Iscrizioni: contatta Roberto Rizzardi al numero +39 333 9254454 oppure scrivi a \nsegreteria@craniosacralelamarea.it
URL:https://www.craniosacralelamarea.it/evento/seminario-di-imprinting/
LOCATION:Scuola di Biodinamica Craniosacrale La Marea – Silea (TV)
CATEGORIES:Eventi,Seminari
ATTACH;FMTTYPE=image/png:https://www.craniosacralelamarea.it/wp-content/uploads/2024/02/Imprinting-newsletter.png
END:VEVENT
BEGIN:VEVENT
DTSTART;VALUE=DATE:20260514
DTEND;VALUE=DATE:20260517
DTSTAMP:20260423T025121
CREATED:20250820T165214Z
LAST-MODIFIED:20251106T153143Z
UID:11704-1778716800-1778975999@www.craniosacralelamarea.it
SUMMARY:Le abilità con il corpo fluido e la Marea Lunga
DESCRIPTION:SEMINARIO APERTO agli ESTERNI\nIn questo seminario rivedremo lo sviluppo embrionale delle prime tre settimane fino alla formazione del tubo neurale: la linea mediana fluida. \nConosceremo l’acqua morfologica grazie agli studi di Gerald H Pollack: l’acqua del corpo non è semplice acqua. \nAcquisiremo le abilità per percepire il corpo fluido e la Potenza che si esprime in esso e per riconoscere le fluttuazioni longitudinali e laterali durante lo svolgersi di una sessione. \nDurante tutte le esercitazioni del seminario svilupperemo una modalità di ascolto del corpo basato sul contatto propriocettivo profondo e afferente. \nPROGRAMMA DEL SEMINARIO: \n\nEmbriologia: ripasso delle prime tre settimane fino alla formazione del tubo neurale.\nLa quarta fase dell’acqua: l’acqua morfologica del corpo fluido.\nLa linea mediana fluida: il tubo neurale.\nDialogare con il corpo fluido: come contattare la Potenza intrinseca e come usarla.\nL’ascolto propriocettivo profondo e afferente nel corpo fluido.\nLe fluttuazioni longitudinali e le fluttuazioni laterali.\nComprendere i fulcri inerziali e favorire il loro scioglimento.\nLa Bioenergia della Salute: entrare in profondità nella linea Mediana Primaria e contattare le forze organizzatrici quale strumento di auto-regolazione.\nEspansione del piano di trattamento intrinseco: gli stati di equilibrio e le tre fasi del processo di guarigione.\nIl vento sottile della Marea Lunga: imparare a percepirla. \n\nDOCENTI: Roberto Rizzardi\, direttore della scuolaDr.ssa Ludovica Bellina\, docente di embriologia\, anatomia e fisiologiaQUANDO:giovedì 14 Maggio 2026: dalle 9:00 alle 18:00;venerdì 15 Maggio 2026:: dalle 9:00 alle 18:00;sabato 16 Maggio 2026:: dalle 9:00 alle 17:00;COSTI: 475\,80 (390\,00 euro + IVA) 427\,00 (350\,00 euro + IVA) riservato agli ex-allievi della ScuolaMODALITA’ DI PAGAMENTO: A mezzo bonifico bancario a favore di: Istituto Craniosacrale La Marea – Unicredit Banca\, Filiale di Treviso sede ospedale IBAN IT91W0200812015000101690911 Causale: Corso “seminario: Il corpo fluido 2026”  \n\nCompila il modulo ed attendi qualche istante \nla risposta di avvenuta consegna. Grazie! \nPer info e disponibilità dei posti: +39 392 3189040 anche via WhatsAppo Telegram
URL:https://www.craniosacralelamarea.it/evento/le-abilita-con-il-corpo-fluido-e-la-marea-lunga/
LOCATION:Scuola di Biodinamica Craniosacrale La Marea – Silea (TV)\, via Roma 13/A\, Silea\, 31057\, Italia
CATEGORIES:APERTO ad operatori esterni,Eventi
ATTACH;FMTTYPE=image/png:https://www.craniosacralelamarea.it/wp-content/uploads/2025/08/Marea-Lunga-2025.png
END:VEVENT
BEGIN:VEVENT
DTSTART;TZID=Europe/Rome:20260725T090000
DTEND;TZID=Europe/Rome:20260725T180000
DTSTAMP:20260423T025121
CREATED:20251120T114349Z
LAST-MODIFIED:20251121T091158Z
UID:11936-1784970000-1785002400@www.craniosacralelamarea.it
SUMMARY:Il muscolo Ileopsoas
DESCRIPTION:Alla scoperta del muscolo dell’anima: strategie per migliorare il Benessere sul corpo\, la mente e le emozioni\nPROGRAMMA: \n\nanatomia del muscolo ileopsoas\nil ruolo posturale e la funzione meno conosciuta del muscolo ileopsoas\ntecniche per aumentare il benessere del muscolo ileopsoas \n\nCOSTO: 158\,60 € (130\,00 € + IVA) \nMODALITA’ di PAGAMENTO: \nA mezzo bonifico bancario a favore di: Istituto Craniosacrale La Marea – Unicredit Banca\, Filiale di Treviso sede ospedale IBAN IT91W0200812015000101690911 Causale: Corso “Seminario: il muscolo ileopsoas 2026”  \n\nCompila il modulo ed attendi qualche istante \nla risposta di avvenuta consegna. Grazie!  \n\nCONTATTI\n📗WhatsApp      📘Telegram      📩 segreteria@craniosacralelamarea.it
URL:https://www.craniosacralelamarea.it/evento/il-muscolo-ileopsoas/
LOCATION:Scuola di Biodinamica Craniosacrale La Marea – Silea (TV)\, via Roma 13/A\, Silea\, 31057\, Italia
CATEGORIES:Eventi
ATTACH;FMTTYPE=image/png:https://www.craniosacralelamarea.it/wp-content/uploads/2025/11/copertina4.png
END:VEVENT
BEGIN:VEVENT
DTSTART;VALUE=DATE:20261011
DTEND;VALUE=DATE:20261214
DTSTAMP:20260423T025121
CREATED:20251107T165910Z
LAST-MODIFIED:20260224T184348Z
UID:11885-1791676800-1797206399@www.craniosacralelamarea.it
SUMMARY:CICLO di INCONTRI di SUONESTESIA 2026
DESCRIPTION:Ciclo di 5 serate esperienziali dalle 16°° alle 19°°\nOgni serata è composta da una parte teorica ed una parte esperienziale\, con spazio\nper domande e condivisioni. Non sono necessarie precedenti esperienze di canto o musicali. \nPROGRAMMA SERATE  \nParte Teorica \n🔹Le Frequenze e i Campi \n🔹432Hz e principio di Risonanza \n🔹La Cimatica \n🔹Suono\, Raga e Ayurveda \n🔹La spiritualità nel Suono \n Parte Esperienziale  \n🔸Meditazione Suonestesia \n🔸Vasu (Vasca dei suoni) \n🔸Sessione terapeutica LIVE di Suonestesia di gruppo con musica e voce  \nCALENDARIO SERATE (domenica) \n\n1^ Serata: 11 ottobre 2026\n2^ Serata: 25 ottobre 2026\n3^ Serata: 15 novembre 2026\n4^ Serata: 29 novembre 2026\n5^ Serata: 13 dicembre 2026\n\nCOSTO: Singolo incontro: 35\,00 euro Intero ciclo di incontri: 213\,50 euro (175\,00 euro+ IVA)  \nMODALITA’ di PAGAMENTO: \nmezzo bonifico bancario a favore di: Istituto Craniosacrale La Marea – Unicredit Banca\, Filiale di Treviso sede ospedale\nIBAN IT91W0200812015000101690911Causale: Incontri di “Suonestesia”  \n\n\n  \n\n\n\n\n	&nbspPRENOTA IL TUO POSTO &nbsp\n	\n	\n		\n			Cellulare\n			 \n		\n	\n	\n		 Email\n \n		 \n	\n	\n	\n	\n	 \n\n\n\n\nPer ulteriori informazioni\, contattaci con un messaggio tramite WhatsApp o Telegram. Oppure invia una mail a  segreteria@craniosacralelamarea.it \n 
URL:https://www.craniosacralelamarea.it/evento/ciclo-di-incontri-di-suonestesia/
LOCATION:Scuola di Biodinamica Craniosacrale La Marea – Silea (TV)\, via Roma 13/A\, Silea\, 31057\, Italia
CATEGORIES:Eventi
ATTACH;FMTTYPE=image/png:https://www.craniosacralelamarea.it/wp-content/uploads/2025/11/2°-CICLO-Suonestesia-2026.png
END:VEVENT
BEGIN:VEVENT
DTSTART;VALUE=DATE:20261119
DTEND;VALUE=DATE:20261122
DTSTAMP:20260423T025121
CREATED:20250725T073237Z
LAST-MODIFIED:20251216T170357Z
UID:11610-1795046400-1795305599@www.craniosacralelamarea.it
SUMMARY:La prospettiva Polivagale in Biodinamica Craniosacrale
DESCRIPTION:La Teoria Polivagale è un modello applicabile in tutti gli approcci somatici.  Si propone di spiegare i meccanismi neurofisiologici sottostanti all’interazione mente-corpo. Per noi operatori è utile conoscere i principi base di questa teoria\, per entrare con consapevolezza nell’organizzazione profonda della fisiologia e avere una chiave di lettura per aiutare le persone a superare le loro difficoltà. \nLa presenza neutra dell’operatore ed il tocco consapevole\, creano un campo di sicurezza che favorisce il processo di co-regolazione della persona aiutando a ritrovare l’equilibrio. \nIn questo seminario esploreremo insieme le profonde interconnessioni esistenti tra Teoria Polivagale\,  co-regolazione e Biodinamica Craniosacrale.  \n \n DOCENTI: Roberto Rizzardi\, direttore della scuola\nDr.ssa Ludovica Bellina\, docente di anatomia\, fisiologia ed embriologia PROGRAMMA \n\nLa Teoria Polivagale: uno sguardo al sistema corpo-mente.\nLa coerenza: lo stato fisiologico dove tutto è in armonia.\nLa Neurocezione: il sistema fisiologico della sicurezza.\nMuoversi nella fisiologia profonda per uscire dal disagio.\nIl ruolo del corpo\, le risposte neurofisiologiche inconsce.\nEsercizi per la sicurezza e la connessione.\nEsercitazioni di tocco sui lettini.\n\nQUANDO: Dal 19 al 21 novembre 2026 dalle 9:00 alle 18:00 (sabato fino alle ore 17:00) SEDE DEL SEMINARIO: Scuola “La Marea“– Via Roma 13/A\, Silea (TV) COSTI: 475\,80 € (390\,00 € + iva) 427\,00 € (350\,00 € + iva) per gli allievi della Scuola MODALITA’ DI PAGAMENTO:\nA mezzo bonifico bancario a favore di:Istituto Craniosacrale La Marea – Unicredit Banca\, Filiale di Treviso sede ospedale\nIBAN IT91W0200812015000101690911Causale: Seminario “La prospettiva Polivagale in Biodinamica Craniosacrale 2026” Per informazioni contattataci via mail o al  +39 392 3189040 anche via WhatsAppo Telegram
URL:https://www.craniosacralelamarea.it/evento/la-prospettiva-polivagale-in-biodinamica-craniosacrale/
LOCATION:Scuola di Biodinamica Craniosacrale La Marea – Silea (TV)\, via Roma 13/A\, Silea\, 31057\, Italia
CATEGORIES:Eventi
ATTACH;FMTTYPE=image/jpeg:https://www.craniosacralelamarea.it/wp-content/uploads/2025/07/poli.jpg
END:VEVENT
END:VCALENDAR