BEGIN:VCALENDAR
VERSION:2.0
PRODID:-//La Marea - Biodinamica Craniosacrale - ECPv6.15.20//NONSGML v1.0//EN
CALSCALE:GREGORIAN
METHOD:PUBLISH
X-WR-CALNAME:La Marea - Biodinamica Craniosacrale
X-ORIGINAL-URL:https://www.craniosacralelamarea.it
X-WR-CALDESC:Eventi per La Marea - Biodinamica Craniosacrale
REFRESH-INTERVAL;VALUE=DURATION:PT1H
X-Robots-Tag:noindex
X-PUBLISHED-TTL:PT1H
BEGIN:VTIMEZONE
TZID:Europe/Rome
BEGIN:DAYLIGHT
TZOFFSETFROM:+0100
TZOFFSETTO:+0200
TZNAME:CEST
DTSTART:20180325T010000
END:DAYLIGHT
BEGIN:STANDARD
TZOFFSETFROM:+0200
TZOFFSETTO:+0100
TZNAME:CET
DTSTART:20181028T010000
END:STANDARD
BEGIN:DAYLIGHT
TZOFFSETFROM:+0100
TZOFFSETTO:+0200
TZNAME:CEST
DTSTART:20190331T010000
END:DAYLIGHT
BEGIN:STANDARD
TZOFFSETFROM:+0200
TZOFFSETTO:+0100
TZNAME:CET
DTSTART:20191027T010000
END:STANDARD
BEGIN:DAYLIGHT
TZOFFSETFROM:+0100
TZOFFSETTO:+0200
TZNAME:CEST
DTSTART:20200329T010000
END:DAYLIGHT
BEGIN:STANDARD
TZOFFSETFROM:+0200
TZOFFSETTO:+0100
TZNAME:CET
DTSTART:20201025T010000
END:STANDARD
BEGIN:DAYLIGHT
TZOFFSETFROM:+0100
TZOFFSETTO:+0200
TZNAME:CEST
DTSTART:20210328T010000
END:DAYLIGHT
BEGIN:STANDARD
TZOFFSETFROM:+0200
TZOFFSETTO:+0100
TZNAME:CET
DTSTART:20211031T010000
END:STANDARD
BEGIN:DAYLIGHT
TZOFFSETFROM:+0100
TZOFFSETTO:+0200
TZNAME:CEST
DTSTART:20220327T010000
END:DAYLIGHT
BEGIN:STANDARD
TZOFFSETFROM:+0200
TZOFFSETTO:+0100
TZNAME:CET
DTSTART:20221030T010000
END:STANDARD
END:VTIMEZONE
BEGIN:VEVENT
DTSTART;TZID=Europe/Rome:20210206T100000
DTEND;TZID=Europe/Rome:20210206T120000
DTSTAMP:20260420T191714
CREATED:20210111T083921Z
LAST-MODIFIED:20210111T083956Z
UID:6978-1612605600-1612612800@www.craniosacralelamarea.it
SUMMARY:Ripartiamo da noi stessiWEBINAR GRATUITO
DESCRIPTION:Il nostro corpo sa come stare meglio\, impariamo ad ascoltarlo \n\n In questo periodo in cui ansia\, paura\, fatica\, disorientamento sono emozioni che rischiano di impossessarsi di noi e di diventare esperienze trattenute nel corpo\, è dal corpo che puoi ripartire per stare meglio. Se impari ad ascoltare il tuo corpo in modo nuovo\, puoi raggiungere un profondo  rilassamento\, sciogliere le tensioni\, le emozioni negative e soprattutto entrare in contatto con la tua Forza Vitale\, con quel potenziale intrinseco ad ogni essere vivente che agisce sempre nel senso della Salute\, del Benessere\, del recupero delle energie! Sono Roberto Rizzardi e da oltre 20 anni aiuto le persone a scoprire con la Biodinamica Craniosacrale il proprio potere di generare SALUTE ed applicarlo su se stessi per il proprio benessere e la propria crescita. In questo webinar ti guiderò in un’esperienza di autoascolto attraverso la Biodinamica Craniosacrale. \nUn’ esperienza di contatto autentico e amorevole con Te stesso attraverso il tuo corpo dal grande potere terapeutico e trasformativo. \nTi aspetto con gioia affinchè anche tu possa sperimentare tutto questo! \nNoi ci vediamo dall’altra parte! \n 
URL:https://www.craniosacralelamarea.it/evento/ripartiamo-da-noi-stessiwebinar-gratuito/
LOCATION:EVENTO GRATUITO ONLINE
CATEGORIES:Eventi
ATTACH;FMTTYPE=image/png:https://www.craniosacralelamarea.it/wp-content/uploads/2021/01/PEACE5.png
END:VEVENT
BEGIN:VEVENT
DTSTART;VALUE=DATE:20210116
DTEND;VALUE=DATE:20210118
DTSTAMP:20260420T191714
CREATED:20210111T222752Z
LAST-MODIFIED:20210111T222752Z
UID:7033-1610755200-1610927999@www.craniosacralelamarea.it
SUMMARY:SEMINARIO ONLINE- Il gioco delle parti
DESCRIPTION:Sabato  16 e domenica 17 gennaio \, Satyam Umberto Bidinotto condurrà un altro seminario sulla comunicazione: IL GIOCO DELLE PARTI. \nEntreremo nel legame che esiste tra emozioni e pensieri. \nQuando siamo preda delle nostre emozioni\, la nostra incisività  comunicativa si affievolisce. \nAl contrario\, la consapevolezza delle nostre emozioni\, ci permette di esprimerci meglio. \nLa proposta è di dedicare del tempo per migliorare la capacità di rapportarci  con gli altri e anche con il nostro stesso inconscio. \nCi saranno una parte teorica e molte esperienze dirette. L’incontro si terrà sulla piattaforma ZOOM\, con i seguenti orari per entrambe le giornate: dalle 9.00 alle 12.30 e dalle 16.00  alle 18.00. \nIl seminario fa parte del percorso formativo della Scuola di Biodinamica Craniosacrale; per i partecipanti esterni\, il numero di posti è limitato. Contributo di partecipazione: 120 euro + IVA. \nPer informazioni e iscrizioni\, contatta al più presto Roberto al 333 9254454. Ecco un breve video sull’argomento:
URL:https://www.craniosacralelamarea.it/evento/seminario-online-il-gioco-delle-parti/
LOCATION:ONLINE – POSTI LIMITATI
CATEGORIES:Eventi
ATTACH;FMTTYPE=image/png:https://www.craniosacralelamarea.it/wp-content/uploads/2020/03/attimo.png
END:VEVENT
BEGIN:VEVENT
DTSTART;VALUE=DATE:20210109
DTEND;VALUE=DATE:20210111
DTSTAMP:20260420T191714
CREATED:20210105T101021Z
LAST-MODIFIED:20210105T101021Z
UID:6942-1610150400-1610323199@www.craniosacralelamarea.it
SUMMARY:Imparare ad ascoltare oggi
DESCRIPTION:Sabato 9 e domenica 10 gennaio Satyam Umberto Bidinotto condurrà un seminario sulla comunicazione: “Rapportarsi”. \nQual è la validità di questo tema adesso? \nNon è difficile accorgersi come la paura dilagante ha peggiorato la nostra comunicazione\, non tanto a livello tecnologico\, quanto nella sostanza. \nDue le cause principali: l’isolamento e l’arroccarci a difesa della nostre convinzioni. \n“L’altro” è visto come un potenziale pericolo e quindi come un potenziale nemico. \nIl fatto che non ne siamo consapevoli\, rende ancora maggiore il rischio di incomprensioni\, fraintendimenti e scontri. Prenderci alcune ore del nostro tempo\, per imparare a fare attenzione maggiormente alla comunicazione e all’ascolto\,  oggi più che mai può essere indispensabile. \nScopriremo inoltre la forza del linguaggio del corpo\, che conta più del contenuto della comunicazione. Ci saranno una parte teorica e molte esperienze dirette\, per acquisire una nuova capacità di rapportarci  con gli altri\, ma anche con il nostro stesso inconscio. L’incontro si terrà sulla piattaforma ZOOM\, con i seguenti orari: dalle 9.00 alle 12.30 e dalle 16.00  alle 18.00. \nIl seminario fa parte del percorso formativo della Scuola di Biodinamica Craniosacrale; per questo il numero di posti è limitato.  \nContributo di partecipazione: 120 euro + IVA. \nPer informazioni e iscrizioni\, contatta al più presto Roberto al 333 9254454. Guarda una breve presentazione del seminario :
URL:https://www.craniosacralelamarea.it/evento/imparare-ad-ascoltare-oggi/
LOCATION:ONLINE – POSTI LIMITATI
CATEGORIES:Eventi,SEMINARIO ONLINE
ATTACH;FMTTYPE=image/png:https://www.craniosacralelamarea.it/wp-content/uploads/2021/01/satyam-bimbo.png
END:VEVENT
BEGIN:VEVENT
DTSTART;TZID=Europe/Rome:20201222T204500
DTEND;TZID=Europe/Rome:20201222T224500
DTSTAMP:20260420T191714
CREATED:20201214T213303Z
LAST-MODIFIED:20201214T222548Z
UID:6873-1608669900-1608677100@www.craniosacralelamarea.it
SUMMARY:Le Fiabe\, il Natale e Noi
DESCRIPTION:
URL:https://www.craniosacralelamarea.it/evento/le-fiabe-il-natale-e-noi/
LOCATION:EVENTO GRATUITO ONLINE
CATEGORIES:Eventi,EVENTO GRATUITO ON LINE
ATTACH;FMTTYPE=image/jpeg:https://www.craniosacralelamarea.it/wp-content/uploads/2020/12/forest-5765878_960_720.jpg
END:VEVENT
BEGIN:VEVENT
DTSTART;TZID=Europe/Rome:20201012T093000
DTEND;TZID=Europe/Rome:20201012T163000
DTSTAMP:20260420T191714
CREATED:20200826T105008Z
LAST-MODIFIED:20200929T180242Z
UID:6386-1602495000-1602520200@www.craniosacralelamarea.it
SUMMARY:WORKSHOP 12 OTTOBRE 2020
DESCRIPTION:
URL:https://www.craniosacralelamarea.it/evento/workshop-2/
LOCATION:Studio di Osteopatia di Giovanna Ghezzi – BOLOGNA
CATEGORIES:Eventi
ATTACH;FMTTYPE=image/jpeg:https://www.craniosacralelamarea.it/wp-content/uploads/2020/08/doppialudo2-scaled.jpg
END:VEVENT
BEGIN:VEVENT
DTSTART;TZID=Europe/Rome:20200715T180000
DTEND;TZID=Europe/Rome:20200715T190000
DTSTAMP:20260420T191714
CREATED:20200403T164917Z
LAST-MODIFIED:20200702T163406Z
UID:5520-1594836000-1594839600@www.craniosacralelamarea.it
SUMMARY:WEBINAR ONLINE GRATUITO
DESCRIPTION:Introduzione alla dinamica dell’attaccamento con Dominique Degranges.\nL’attaccamento è un processo delicato e fragile che comincia fin dall’inizio della nostra incarnazione e ci accompagna per tutta la vita. Fin dall’inizio della nostra esistenza ci attacchiamo agli altri: ai nostri genitori\, fratelli\, sorelle e anche al nostro contesto. Come viviamo questo attaccamento ha una grande conseguenza nella nostra vita. Le esperienze vissute nel periodo prenatale\, durante la nostra nascita e all’inizio della nostra infanzia possono influenzare la nostra vita relazionale sia verso noi stessi che verso gli altri\, condizionando il nostro modo di essere\, le nostre attitudini e le nostre paure.\nAscoltiamo cosa ci racconta Dominque Degranges su questo importante tema!
URL:https://www.craniosacralelamarea.it/evento/webinar-degranges/
LOCATION:ONLINE – POSTI LIMITATI
CATEGORIES:SEMINARIO ONLINE
ATTACH;FMTTYPE=image/png:https://www.craniosacralelamarea.it/wp-content/uploads/2019/11/banner-generazioni.png
END:VEVENT
BEGIN:VEVENT
DTSTART;VALUE=DATE:20200605
DTEND;VALUE=DATE:20200606
DTSTAMP:20260420T191714
CREATED:20200518T213203Z
LAST-MODIFIED:20200529T161911Z
UID:5859-1591315200-1591401599@www.craniosacralelamarea.it
SUMMARY:WEBINAR ONLINE - Conosci la Biodinamica Craniosacrale: la dinamica della Vita.
DESCRIPTION:Cosa ci servirebbe maggiormente nei momenti difficili? Come gestire la paura e il senso di incertezza verso il futuro?\nSiamo tutti coinvolti in un momento difficile della nostra vita personale e professionale. Sentiamo il peso della responsabilità che abbiamo gli uni verso gli altri e\, molto probabilmente\, in questo periodo facciamo i conti con quanto “prima” di tutto questo davamo per scontato. \nIn questo webinar\, partendo dai principi di questa fantastica disciplina\, ti aiuterò a ri-trovare la “centratura” di te stesso. Potrai così riconciliare energia e stimoli per gestire la paura (sentimento normalissimo … è la risposta biologica ad una situazione non chiara) ed aumentare le tue risorse. Scoprirai così che la Biodinamica Craniosacrale non è solo un metodo di lavoro con una persona stesa su un lettino\, ma una vera e propria filosofia di vita\, che spesso cambia\, e trasforma\, le tue convinzioni aiutandoti a superare i tuoi limiti. \nEsplorerai i principi che la caratterizzano e imparerai a riconoscere i movimenti ritmici della Respirazione Primaria nel corpo\, veicolo ed espressione delle forze profonde di Salute in noi. Farai esperienza di tutto ciò attraverso l’autotrattamento guidato\, che rimarrà un prezioso strumento per riorientarti in ogni momento al tuo benessere. \nRELATORE: Roberto Rizzardi \nCOSTO WEBINAR: 47\,00 euro (38\,60 € + IVA) MODALITA’ DI PAGAMENTO: A mezzo bonifico bancario a favore di: \nIstituto Craniosacrale La Marea – Unicredit Banca\, Filiale di Treviso sede ospedale IBAN IT91W0200812015000101690911 Causale: Corso “L’embrione dentro di noi”  \n \n 
URL:https://www.craniosacralelamarea.it/evento/conosci-la-biodinamica-craniosacrale-la-dinamica-della-vita/
LOCATION:ONLINE – POSTI LIMITATI
CATEGORIES:SEMINARIO ONLINE
ATTACH;FMTTYPE=image/jpeg:https://www.craniosacralelamarea.it/wp-content/uploads/2020/05/webinar-pagamento2.jpg
END:VEVENT
BEGIN:VEVENT
DTSTART;VALUE=DATE:20200515
DTEND;VALUE=DATE:20200518
DTSTAMP:20260420T191714
CREATED:20200502T164123Z
LAST-MODIFIED:20200505T095718Z
UID:5789-1589500800-1589759999@www.craniosacralelamarea.it
SUMMARY:Seminario ONLINE: Il Respiro della Vita: il nostro inizio. I fondamenti della Biodinamica Craniosacrale
DESCRIPTION:In un momento di crisi come questo la cosa più importante è diventata esserci: “stare insieme in modo significativo”. Per questa ragione la scuola intende guardare avanti e creare connessione tra le persone\, anche se con uno strumento virtuale. Conosceremo la nostra storia come esseri incarnati\, conosceremo da vicino le forze che sono in gioco fin dal principio della nostra avventura terrena quando siamo ancora due metà che si attraggono durante la “danza pre-concepimento”. Fare esperienza di come queste forze agiscano fin dal concepimento e siano sempre presenti in noi e poterle percepire ci aiuta a comprendere quanto esse siano il vero motore della nostra Salute. L’embriologia delle prime tre settimane sarà il focus di questo seminario e rappresenterà per noi la direzione da intraprendere attraverso gli indicatori che l’embrione stesso ci mostra. Il seminario include lezioni frontali di embriologia\, spiegazioni del tema inerenti ai principi della Biodinamica\, esperienze guidate di autopalpazione\, ma anche sessioni pratiche su congiunti disponibili\, con momenti di supervisione – approfondimento di ciò che si presenta nel “campo”. Il seminario\, che si terrà sulla piattaforma di Zoom\, è rivolto agli allievi del primo anno\, ma  e’ aperto anche a persone esterne che abbiano i requisiti minimi di conoscenza dei principi della Biodinamica Craniosacrale. \n QUANDO:venerdi 15 maggio: dalle 17:00 alle 19:00;sabato 16 maggio: dalle 10:00 alle 12:00 e dalle 15:00 alle 17:00; domenica 17 maggio: dalle 10:00 alle 12:00;  \nCOSTI: 177\,00 euro (145\,00 euro + IVA) MODALITA’ DI PAGAMENTO: A mezzo bonifico bancario a favore di: Istituto Craniosacrale La Marea – Unicredit Banca\, Filiale di Treviso sede ospedale IBAN IT91W0200812015000101690911 Causale: Corso “seminario online: il Respiro della Vita”  \nDopo aver compilato la scheda di iscrizione inviala alla nostra mail. Per info e disponibilità dei posti contattateci via mail o via telefono 0422 361665/ +39 392 3189040 Ad avvenuta registrazione con relativo pagamento delle quote previste\, verranno forniti ad ogni partecipante i dati necessari per la connessione online (al massimo due ore prima dell’evento programmato).
URL:https://www.craniosacralelamarea.it/evento/seminario-online-il-respiro-della-vita-il-nostro-inizio-i-fondamenti-della-biodinamica-craniosacrale/
LOCATION:ONLINE
CATEGORIES:SEMINARIO ONLINE
ATTACH;FMTTYPE=image/png:https://www.craniosacralelamarea.it/wp-content/uploads/2020/05/x-lobi-temporali-845x321-1.png
END:VEVENT
BEGIN:VEVENT
DTSTART;VALUE=DATE:20200508
DTEND;VALUE=DATE:20200511
DTSTAMP:20260420T191714
CREATED:20200502T160409Z
LAST-MODIFIED:20200503T184215Z
UID:5721-1588896000-1589155199@www.craniosacralelamarea.it
SUMMARY:Seminario ONLINE: I lobi temporali\, il sistema cortico-limbico e la processazione delle emozioni
DESCRIPTION:In un momento di crisi come questo la cosa più importante è diventata esserci: “stare insieme in modo significativo”. Per questa ragione la scuola intende guardare avanti e creare connessione tra le persone\, anche se con uno strumento virtuale. Conoscere un po’ di più il nostro sistema nervoso è importante. Comprendere come si comporta il corpo quando viene investito dalle emozioni ed osservare i circuiti neurali che fungono da “strade” per le emozioni  ci aiuta a riconnetterci a noi stessi e a recuperare più risorse. Il seminario include lezioni frontali di neurofisiologia ed anatomia\, spiegazioni del tema inerenti ai principi della Biodinamica\, esperienze guidate di autopalpazione\, ma anche sessioni pratiche su congiunti disponibili\, con momenti di supervisione – approfondimento di ciò che si presenta nel “campo”. Il seminario\, che si terrà sulla piattaforma di Zoom\, è rivolto agli allievi del secondo anno\, ma  e’ aperto anche a persone esterne che abbiano i requisiti minimi di conoscenza dei principi della Biodinamica Craniosacrale. \n QUANDO: venerdi 8 maggio: dalle 17:00 alle 19:00;sabato 9 maggio: dalle 10:00 alle 12:00 e dalle 15:00 alle 17:00; domenica 10 maggio: dalle 10:00 alle 12:00;  \nCOSTI: 177\,00 euro (145\,00 euro + IVA) MODALITA’ DI PAGAMENTO: A mezzo bonifico bancario a favore di: Istituto Craniosacrale La Marea – Unicredit Banca\, Filiale di Treviso sede ospedale IBAN IT91W0200812015000101690911 Causale: Corso “Seminario online : I lobi temporali”  \nDopo aver compilato la scheda di iscrizione inviala alla nostra mail. Per info e disponibilità dei posti contattateci via mail o via telefono 0422 361665/ +39 392 3189040 Ad avvenuta registrazione con relativo pagamento delle quote previste\, verranno forniti ad ogni partecipante i dati necessari per la connessione online (al massimo due ore prima dell’evento programmato).
URL:https://www.craniosacralelamarea.it/evento/seminario-online-i-lobi-temporali-il-sistema-cortico-limbico-e-la-processazione-delle-emozioni-dal-8-al-10-maggio-2020/
LOCATION:ONLINE
CATEGORIES:SEMINARIO ONLINE
ATTACH;FMTTYPE=image/jpeg:https://www.craniosacralelamarea.it/wp-content/uploads/2020/05/x-lobi-temporali.jpg
END:VEVENT
BEGIN:VEVENT
DTSTART;VALUE=DATE:20191130
DTEND;VALUE=DATE:20191201
DTSTAMP:20260420T191714
CREATED:20191010T221319Z
LAST-MODIFIED:20191115T224959Z
UID:4765-1575072000-1575158399@www.craniosacralelamarea.it
SUMMARY:Biodinamica Craniosacrale come risorsa nel colpo di frusta
DESCRIPTION:Un corso durante il quale studiamo le dinamiche del trauma distorsivo del rachide cervicale e analizziamo le ripercussioni nel “meccanismo di respirazione primaria” craniosacrale.\nImpariamo inoltre alcune strategie per supportare la persona nel recupero del suo benessere\, che spesso viene turbato anche a livello emozionale. \nFacciamo tesoro degli insegnamenti che il dott. Rolling Becker dava ai suoi studenti per favorire il recupero delle “forze biodinamiche” intrappolate nel corpo fluido ed energetico per renderle di nuovo disponibili al sostegno della vitalità della persona. \nDi seguito il programma che verrà svolto: \n\nBreve ripasso di anatomia e fisiologia del rachide cervicale.\nDefinizione e classificazione dei traumi distorsivi del rachide cervicale.\nEffetti secondari del colpo di frusta a medio e lungo termine.\nDescrizione ed esperienze guidate per lavorare col “corpo fluido ed energetico”\n\nIl corso si rivolge a tutti gli operatori di Craniosacrale\, con almeno un anno di formazione concluso. \nDOCENTE: Roberto Rizzardi \n  \nQUANDO: 30 NOVEMBRE 2019 dalle ore 9:00 alle ore 18:00  \n\nCOSTI: Il costo del seminario incluso il materiale didattico è di 120 euro+iva\, TOT.  146\,4 euro. Paga facilmente tramite PayPal o tramite il seguente bonifico bancario  IBAN IT91W0200812015000101690911  Causale: Seminario “Biodinamica Craniosacrale come risorsa nel colpo di frusta”  \n  \n\nCompila online o scarica la scheda di iscrizione e inviala alla nostra mail; oppure  iscriviti online cliccando il tasto “Registrati all’evento” a fondo pagina. \nPer info e disponibilità di posti potete contattarci via mail o telefonando allo 0422-361665 / 392 3189040
URL:https://www.craniosacralelamarea.it/evento/biodinamica-craniosacrale-come-risorsa-nel-colpo-di-frusta/
LOCATION:Istituto Craniosacrale La marea\, via Roma 13/A\, Silea\, 31057\, Italia
CATEGORIES:Seminari
ATTACH;FMTTYPE=image/jpeg:https://www.craniosacralelamarea.it/wp-content/uploads/2019/10/COLPO-DI-FRUSTA2.jpg
END:VEVENT
BEGIN:VEVENT
DTSTART;VALUE=DATE:20191024
DTEND;VALUE=DATE:20191027
DTSTAMP:20260420T191714
CREATED:20190916T221501Z
LAST-MODIFIED:20191010T222105Z
UID:4540-1571875200-1572134399@www.craniosacralelamarea.it
SUMMARY:Nuova Formazione Triennale 2019 - 2022
DESCRIPTION:1° Seminario: 24 – 25 – 26 ottobre 2019\nI fondamenti della Biodinamica Craniosacrale: 24 ore\nIn questo seminario verranno fornite conoscenze di base di anatomia e fisiologia per comprendere il meccanismo respiratorio primario; introdurremo i principali concetti della Biodinamica Craniosacrale e faremo esperienze guidate di percezione della Respirazione Primaria e di rilassamento fasciale. \n  \nIL PROGRAMMA\n\nLa Biodinamica Craniosacrale: origini storiche ed evoluzione.\nAnatomia e fisiologia di base del sistema craniosacrale o meccanismo respiratorio primario.\nIl movimento intrinseco del sistema vivente: il Respiro della Vita quale forza profonda di guarigione.\nLa Respirazione Primaria e le tre maree: descrizione ed esperienze guidate di percezione.\nIntroduzione al concetto di fascia (tessuto connettivo) nel corpo umano: il Craniosacrale come lavoro per il corpo intero.\nAnatomia e fisiologia dei tre diaframmi: pelvico\, respiratorio e ingresso toracico.\nConcetti di fulcro fisiologico e di fulcro inerziale.\nConcetto di “campo di percezione” ed esercizi di propriocezione per l’acquisizione di una corretta postura e presenza per l’ascolto.\nEsperienze guidate di ascolto e tecniche di rilassamento fasciale dei tre diaframmi\, delle fasce superficiali e delle aree cicatriziali.\n\nI docenti del seminario sono Roberto Rizzardi e la dott.ssa Ludovica Bellina\, per la parte dedicata all’embriologia. \n  \nCOSTO\n427\,00 € (350\,00 € + 22% iva) | Il prezzo comprende il materiale didattico composto da una dispensa e dalle slides di anatomia in formato pdf. \nIl pagamento\, da corrispondersi almeno 15 giorni prima l’inizio del corso/seminario\, dovrà essere eseguito su: \nUnicredit Banca\, Filiale di Treviso sede ospedale\,  IBAN IT 91 W 02008 12015 000101690911 | Intestato a Istituto Craniosacrale La Marea.\nCausale: Titolo del corso \nPrecisiamo che l’iscrizione si intenderà perfezionata solo al momento del ricevimento\, via mail\, di copia dell’attestazione di avvenuto pagamento della relativa quota di iscrizione. \nLa Segreteria Organizzativa provvederà comunque a contattarvi qualche giorno prima del corso per le ultime informazioni utili. Per qualsiasi informazione\, contattateci ai recapiti indicati. \n  \n\nSCARICA IL CALENDARIO DI FORMAZIONE TRIENNALE 2019 -2022\nSCARICA IL PROGRAMMA COMPLETO DI FORMAZIONE TRIENNALE\nSCARICA LA SCHEDA DI ISCRIZIONE  (con tutte le informazioni contrattuali e i costi relativi alla formazione triennale) e inviala compilata e firmata in ogni sua parte a segreteria@craniosacralelamarea.it\nHOTEL e B&B – STRUTTURE RICETTIVE a Silea e dintorni
URL:https://www.craniosacralelamarea.it/evento/nuova-formazione-triennale-2019-2022/
LOCATION:Istituto Craniosacrale La marea\, via Roma 13/A\, Silea\, 31057\, Italia
CATEGORIES:Seminari Formazione triennale
ATTACH;FMTTYPE=image/png:https://www.craniosacralelamarea.it/wp-content/uploads/2019/08/mani-800x386.png
END:VEVENT
BEGIN:VEVENT
DTSTART;VALUE=DATE:20191007
DTEND;VALUE=DATE:20191008
DTSTAMP:20260420T191714
CREATED:20190916T163839Z
LAST-MODIFIED:20190919T160046Z
UID:4508-1570406400-1570492799@www.craniosacralelamarea.it
SUMMARY:Biodinamica Craniosacrale & Estetica
DESCRIPTION:Corso di 40 ore per integrare l’offerta di benessere e cura della persona del centro estetico \nHai voglia di crescere\, professionalmente ed umanamente\, e di acquisire nuove conoscenze elaborando un nuovo tipo di incontro relazionale e contatto fisico?\nVuoi l’opportunità di cambiare il modo con cui ti approcci alla persona e ai problemi ed offrire\, all’interno dei tuoi servizi\, un nuovo progetto ad alta professionalità?\nPer dare risposte a queste domande\, il nostro Istituto e CNA di Treviso organizzano un corso di formazione specifico per offrirti la possibilità di imparare un metodo olistico di relazione con il tuo cliente che possa integrare i trattamenti che offri nel tuo centro.\nNon un nuovo tipo di massaggio ma un metodo integrale di approccio alla persona che lavora con la Respirazione Primaria e con il rilassamento profondo.\nUn metodo e delle tecniche che ti permettano di offrire al tuo cliente un valore aggiunto in termini di relazione e di Benessere.\n\n\n\nDOCENTI DELL’ISTITUTO CRANIOSACRALE “LA MAREA”\ndott. ROBERTO RIZZARDI\nInfermiere\, docente Craniosacrale certificato ACSI \ndott.ssa LUDOVICA BELLINA\nMedico specializzato in medicina interna \n\nCONTENUTI DEL CORSO\n✔ La Biodinamica Craniosacrale: origini ed evoluzione. \n✔ Il movimento intrinseco del sistema vivente: il Respiro della Vita quale forza profonda di autoregolazione. \n✔ La Respirazione Primaria e le tre maree. \n✔ Il corpo fisico\, il corpo fluido e il corpo energetico: come lavorare con le tre dimensioni funzionali della persona. \n✔ Anatomia e fisiologia di base del sistema craniosacrale e dei tre diaframmi: pelvico\, respiratorio e ingresso toracico. \n✔ Introduzione al concetto di fascia (tessuto connettivo) nel corpo umano: il Craniosacrale come lavoro per il corpo intero. I modelli di tensegrità applicati al corpo umano. \n✔ Concetto di “campo percettivo” quale spazio di incontro empatico e di relazione neutra con il cliente \n✔ Trattamento fasciale dei tre diaframmi\, delle fasce superficiali degli arti e delle cicatrici. \n\nRIMBORSI EBAV FINO ALL’80% DEI COSTI SOSTENUTI\nQUOTE\nVersanti Ebav: 600\,00 € + Iva \nNon versanti EBAV: 490\,00 € + Iva \n  \nhttps://youtu.be/lazUrEKoKgQ \n 
URL:https://www.craniosacralelamarea.it/evento/biodinamica-craniosacrale-estetica/
LOCATION:Istituto Craniosacrale La marea\, via Roma 13/A\, Silea\, 31057\, Italia
CATEGORIES:Seminari
ATTACH;FMTTYPE=image/png:https://www.craniosacralelamarea.it/wp-content/uploads/2019/09/corso-CNA.png
ORGANIZER;CN="CNA Treviso":MAILTO:info.treviso@cna.it
END:VEVENT
BEGIN:VEVENT
DTSTART;VALUE=DATE:20190928
DTEND;VALUE=DATE:20190929
DTSTAMP:20260420T191714
CREATED:20190909T175112Z
LAST-MODIFIED:20190923T114838Z
UID:4313-1569628800-1569715199@www.craniosacralelamarea.it
SUMMARY:Workshops esperenziali
DESCRIPTION:Sabato 21 settembre 2019: prossimo appuntamento con il seminario conoscitivo di una giornata (9.30-17.30)\, teorico-pratico\, che ti permetteranno di comprendere più da vicino la Biodinamica Craniosacrale. \nI nostri workshops esperienziali sono seminari conoscitivi di una giornata (9.30-17.30)\, teorico-pratici\, che ti permetteranno di comprendere più da vicino la Biodinamica Craniosacrale.\nSono aperti a coloro che sono motivati ad esplorare questa disciplina bionaturale e le sue potenzialità\, in modo particolare a tutti gli operatori del benessere e ai professionisti sanitari.\nIn questa giornata i nostri docenti e tutors vi guideranno a sperimentare il contatto profondo e la percezione nel corpo dell’attività lenta e ritmica della Respirazione Primaria\, quale espressione delle forze dinamiche che agiscono in profondità nel sistema vivente e ne rappresentano il potenziale intrinseco di cambiamento e autoguarigione.\nEsploreremo come poter creare un campo relazionale sicuro attraverso il contatto e come favorire una presenza neutra dell’operatore per facilitare i processi di autoregolazione nella persona. \nPROGRAMMA DEL CORSO\n\nDescrizione degli obiettivi del workshop e presentazione dei partecipanti\nLa Biodinamica Craniosacrale: le sue origini dall’osteopatia fino alla concezione moderna\nLa Respirazione Primaria e le sue modalità di espressione nel corpo: le tre maree\nEsperienze pratiche di percezione della Respirazione Primaria nel corpo\nL’importanza del campo relazionale nella Biodinamica Craniosacrale: esercizi per la presenza dell’operatore attraverso un contatto neutro e consapevole.\n\nVerranno inoltre fornite tutte le informazioni per chi vuole intraprendere la formazione triennale per diventare operatore craniosacrale certificato. \nPER INFO e PRENOTAZIONI: segreteria@craniosacralelamarea.it
URL:https://www.craniosacralelamarea.it/evento/workshops-esperenziali/
LOCATION:Istituto Craniosacrale La marea\, via Roma 13/A\, Silea\, 31057\, Italia
CATEGORIES:Corsi aperti al pubblico
ATTACH;FMTTYPE=image/jpeg:https://www.craniosacralelamarea.it/wp-content/uploads/2019/09/Pulcino-in-mano.jpg
END:VEVENT
END:VCALENDAR