BEGIN:VCALENDAR
VERSION:2.0
PRODID:-//La Marea - Biodinamica Craniosacrale - ECPv6.15.20//NONSGML v1.0//EN
CALSCALE:GREGORIAN
METHOD:PUBLISH
X-ORIGINAL-URL:https://www.craniosacralelamarea.it
X-WR-CALDESC:Eventi per La Marea - Biodinamica Craniosacrale
REFRESH-INTERVAL;VALUE=DURATION:PT1H
X-Robots-Tag:noindex
X-PUBLISHED-TTL:PT1H
BEGIN:VTIMEZONE
TZID:Europe/Rome
BEGIN:DAYLIGHT
TZOFFSETFROM:+0100
TZOFFSETTO:+0200
TZNAME:CEST
DTSTART:20220327T010000
END:DAYLIGHT
BEGIN:STANDARD
TZOFFSETFROM:+0200
TZOFFSETTO:+0100
TZNAME:CET
DTSTART:20221030T010000
END:STANDARD
BEGIN:DAYLIGHT
TZOFFSETFROM:+0100
TZOFFSETTO:+0200
TZNAME:CEST
DTSTART:20230326T010000
END:DAYLIGHT
BEGIN:STANDARD
TZOFFSETFROM:+0200
TZOFFSETTO:+0100
TZNAME:CET
DTSTART:20231029T010000
END:STANDARD
BEGIN:DAYLIGHT
TZOFFSETFROM:+0100
TZOFFSETTO:+0200
TZNAME:CEST
DTSTART:20240331T010000
END:DAYLIGHT
BEGIN:STANDARD
TZOFFSETFROM:+0200
TZOFFSETTO:+0100
TZNAME:CET
DTSTART:20241027T010000
END:STANDARD
END:VTIMEZONE
BEGIN:VEVENT
DTSTART;TZID=Europe/Rome:20231220T200000
DTEND;TZID=Europe/Rome:20231220T200000
DTSTAMP:20260426T061309
CREATED:20231130T161739Z
LAST-MODIFIED:20231130T161920Z
UID:10738-1703102400-1703102400@www.craniosacralelamarea.it
SUMMARY:Il Natale? Tutte storie...
DESCRIPTION:“La Marea” non è solo Scuola di Biodinamica Craniosacrale\, ma è anche una casa ricca di significati\, condivisioni\, linguaggi\, interessi e creatività; anche quest’anno\, per augurarvi un sereno Natale\, ospitiamo l’amico e attore professionista Giovanni Betto che ci accompagnerà in una serata di “Storie serie\, storie semi-serie\, storie non proprio serie\, per prepararci al Natale in corpo\, ma soprattutto in spirito. Quando tu non vai a teatro\, ma il teatro viene da te…” \nPer sostenere la serata abbiamo previsto un contributo di 10 € \nI posti sono limitati; per la vostra prenotazione mandate un messaggio cliccando sul seguente link WhatsApp o Telegram. \nOppure inviate una mail a  segreteria@craniosacralelamarea.it \nun caro saluto \nStaff La Marea
URL:https://www.craniosacralelamarea.it/evento/il-natale-tutte-storie/
LOCATION:Scuola di Biodinamica Craniosacrale La Marea – Silea (TV)\, via Roma 13/A\, Silea\, 31057\, Italia
CATEGORIES:Eventi
ATTACH;FMTTYPE=image/png:https://www.craniosacralelamarea.it/wp-content/uploads/2023/11/Senza-titolo-1.png
END:VEVENT
END:VCALENDAR