BEGIN:VCALENDAR
VERSION:2.0
PRODID:-//La Marea - Biodinamica Craniosacrale - ECPv6.15.20//NONSGML v1.0//EN
CALSCALE:GREGORIAN
METHOD:PUBLISH
X-ORIGINAL-URL:https://www.craniosacralelamarea.it
X-WR-CALDESC:Eventi per La Marea - Biodinamica Craniosacrale
REFRESH-INTERVAL;VALUE=DURATION:PT1H
X-Robots-Tag:noindex
X-PUBLISHED-TTL:PT1H
BEGIN:VTIMEZONE
TZID:Europe/Rome
BEGIN:DAYLIGHT
TZOFFSETFROM:+0100
TZOFFSETTO:+0200
TZNAME:CEST
DTSTART:20230326T010000
END:DAYLIGHT
BEGIN:STANDARD
TZOFFSETFROM:+0200
TZOFFSETTO:+0100
TZNAME:CET
DTSTART:20231029T010000
END:STANDARD
BEGIN:DAYLIGHT
TZOFFSETFROM:+0100
TZOFFSETTO:+0200
TZNAME:CEST
DTSTART:20240331T010000
END:DAYLIGHT
BEGIN:STANDARD
TZOFFSETFROM:+0200
TZOFFSETTO:+0100
TZNAME:CET
DTSTART:20241027T010000
END:STANDARD
BEGIN:DAYLIGHT
TZOFFSETFROM:+0100
TZOFFSETTO:+0200
TZNAME:CEST
DTSTART:20250330T010000
END:DAYLIGHT
BEGIN:STANDARD
TZOFFSETFROM:+0200
TZOFFSETTO:+0100
TZNAME:CET
DTSTART:20251026T010000
END:STANDARD
END:VTIMEZONE
BEGIN:VEVENT
DTSTART;TZID=Europe/Rome:20240926T200000
DTEND;TZID=Europe/Rome:20240926T220000
DTSTAMP:20260425T142246
CREATED:20240712T151305Z
LAST-MODIFIED:20240712T153024Z
UID:11052-1727380800-1727388000@www.craniosacralelamarea.it
SUMMARY:CONNETTERSI e CRESCERELa psicoterapia di gruppo: cos’è\, a cosa serve\, perchè funziona.
DESCRIPTION:Una introduzione alla psicoterapia di gruppo in Analisi Transazionale. \nLa nostra Scuola ospita la dott.ssa Marika Nascimben\, psicologa-psicoterapeuta e già nostra collaboratrice nello Spazio La Marea\, in una serata  gratuita in cui ci illustrerà la psicoterapia di gruppo. \nL’intento della serata gratuita è sia di offrire una visione generale di questo strumento terapeutico\, sia di creare un gruppo di persone interessate e motivate che si incontreranno per un ciclo di 6 incontri a partire da ottobre 2024\, per conoscere più a fondo ed applicare alcuni concetti dell’Analisi Transazionale alla nostra vita e ai nostri obiettivi di crescita.  IN QUESTA SERATA SCOPRIRAI: \n\nQuali sono le caratteristiche della Psicoterapia di Gruppo in Analisi  Transazionale\nPerché “un gruppo”?\nIl ruolo del terapeuta come facilitatore\nGli obiettivi principali all’interno della Psicoterapia di Gruppo in Analisi  Transazionale\nQuali strumenti  vengono utilizzati? \n\n \nQUANDO: Giovedì 26 settembre dalle ore 20:00 alle ore 22:00 DOVE: Scuola “La Marea“– Via Roma 13/A\, Silea (TV) INGRESSO LIBERO – è gradita la prenotazione Per informazioni contattata la dott.ssa Marika Nascimebn al  +39 3494931634  anche via WhatsApp o scrivi una mail a marika.nascimben@gmail.com \n 
URL:https://www.craniosacralelamarea.it/evento/connettersi-e-crescere/
LOCATION:Scuola di Biodinamica Craniosacrale La Marea – Silea (TV)\, via Roma 13/A\, Silea\, 31057\, Italia
CATEGORIES:Eventi
ATTACH;FMTTYPE=image/png:https://www.craniosacralelamarea.it/wp-content/uploads/2024/07/per-evento.png
END:VEVENT
END:VCALENDAR