BEGIN:VCALENDAR
VERSION:2.0
PRODID:-//La Marea - Biodinamica Craniosacrale - ECPv6.15.20//NONSGML v1.0//EN
CALSCALE:GREGORIAN
METHOD:PUBLISH
X-ORIGINAL-URL:https://www.craniosacralelamarea.it
X-WR-CALDESC:Eventi per La Marea - Biodinamica Craniosacrale
REFRESH-INTERVAL;VALUE=DURATION:PT1H
X-Robots-Tag:noindex
X-PUBLISHED-TTL:PT1H
BEGIN:VTIMEZONE
TZID:Europe/Rome
BEGIN:DAYLIGHT
TZOFFSETFROM:+0100
TZOFFSETTO:+0200
TZNAME:CEST
DTSTART:20230326T010000
END:DAYLIGHT
BEGIN:STANDARD
TZOFFSETFROM:+0200
TZOFFSETTO:+0100
TZNAME:CET
DTSTART:20231029T010000
END:STANDARD
BEGIN:DAYLIGHT
TZOFFSETFROM:+0100
TZOFFSETTO:+0200
TZNAME:CEST
DTSTART:20240331T010000
END:DAYLIGHT
BEGIN:STANDARD
TZOFFSETFROM:+0200
TZOFFSETTO:+0100
TZNAME:CET
DTSTART:20241027T010000
END:STANDARD
BEGIN:DAYLIGHT
TZOFFSETFROM:+0100
TZOFFSETTO:+0200
TZNAME:CEST
DTSTART:20250330T010000
END:DAYLIGHT
BEGIN:STANDARD
TZOFFSETFROM:+0200
TZOFFSETTO:+0100
TZNAME:CET
DTSTART:20251026T010000
END:STANDARD
END:VTIMEZONE
BEGIN:VEVENT
DTSTART;TZID=Europe/Rome:20241201T090000
DTEND;TZID=Europe/Rome:20241201T170000
DTSTAMP:20260423T072327
CREATED:20200921T221552Z
LAST-MODIFIED:20241017T143033Z
UID:6416-1733043600-1733072400@www.craniosacralelamarea.it
SUMMARY:WORKSHOP di Biodinamica Craniosacrale
DESCRIPTION:
URL:https://www.craniosacralelamarea.it/evento/workshop-1-dicembre-2024/
LOCATION:Angolo Zen – Sant’Angelo di Piove di Sacco – PD
CATEGORIES:Eventi
ATTACH;FMTTYPE=image/png:https://www.craniosacralelamarea.it/wp-content/uploads/2020/09/Snapshot.png
END:VEVENT
END:VCALENDAR