BEGIN:VCALENDAR
VERSION:2.0
PRODID:-//La Marea - Biodinamica Craniosacrale - ECPv6.15.20//NONSGML v1.0//EN
CALSCALE:GREGORIAN
METHOD:PUBLISH
X-ORIGINAL-URL:https://www.craniosacralelamarea.it
X-WR-CALDESC:Eventi per La Marea - Biodinamica Craniosacrale
REFRESH-INTERVAL;VALUE=DURATION:PT1H
X-Robots-Tag:noindex
X-PUBLISHED-TTL:PT1H
BEGIN:VTIMEZONE
TZID:Europe/Rome
BEGIN:DAYLIGHT
TZOFFSETFROM:+0100
TZOFFSETTO:+0200
TZNAME:CEST
DTSTART:20240331T010000
END:DAYLIGHT
BEGIN:STANDARD
TZOFFSETFROM:+0200
TZOFFSETTO:+0100
TZNAME:CET
DTSTART:20241027T010000
END:STANDARD
BEGIN:DAYLIGHT
TZOFFSETFROM:+0100
TZOFFSETTO:+0200
TZNAME:CEST
DTSTART:20250330T010000
END:DAYLIGHT
BEGIN:STANDARD
TZOFFSETFROM:+0200
TZOFFSETTO:+0100
TZNAME:CET
DTSTART:20251026T010000
END:STANDARD
BEGIN:DAYLIGHT
TZOFFSETFROM:+0100
TZOFFSETTO:+0200
TZNAME:CEST
DTSTART:20260329T010000
END:DAYLIGHT
BEGIN:STANDARD
TZOFFSETFROM:+0200
TZOFFSETTO:+0100
TZNAME:CET
DTSTART:20261025T010000
END:STANDARD
END:VTIMEZONE
BEGIN:VEVENT
DTSTART;TZID=Europe/Rome:20251218T203000
DTEND;TZID=Europe/Rome:20251218T220000
DTSTAMP:20260422T121346
CREATED:20241126T180754Z
LAST-MODIFIED:20251106T153033Z
UID:11173-1766089800-1766095200@www.craniosacralelamarea.it
SUMMARY:Natale 2025 con Giovanni Betto
DESCRIPTION:“La Marea” non è solo Scuola di Biodinamica Craniosacrale\, ma è anche una casa ricca di significati\, condivisioni\, linguaggi\, interessi e creatività; anche quest’anno\, per augurarvi un sereno Natale\, vi invitiamo allo spettacolo del nostro amico e attore professionista Giovanni Betto. IL RIDI-READING – Omaggio a Stefano Benni. ➡️ GIOVEDì 18 DICEMBRE dalle ore 20:30 \nUn reading dedicato alla fantasia sfrenata di Stefano Benni\, autore fra i più amati della letteratura italiana contemporanea. \nDalle pagine dei suoi racconti e romanzi emergono personaggi surreali\, situazioni paradossali e una comicità esilarante ma profonda\, che ci fa ridere e riflettere allo stesso tempo. \nStefano Benni (Bologna\, 12 agosto 1947 – 9 settembre 2025) è stato uno dei più originali e amati scrittori\, poeti\, giornalisti e drammaturghi italiani. \nLa sua produzione letteraria spazia dai racconti ai romanzi\, dalle ballate al teatro\, con uno stile caratterizzato da invenzioni linguistiche\, ironia pungente e fantasia a rotta di collo. \nGiovanni Betto se ne fa interprete e presta la sua voce e il suo mestiere per rendere omaggio a questo grande autore che ci ha appena lasciato. \nPer sostenere la serata abbiamo previsto un contributo di 15 € a persona. \n\n\n  \n\n\n\n\n	&nbspPRENOTA IL TUO POSTO &nbsp\n	\n	\n		\n			Cellulare\n			 \n		\n	\n	\n		 Email\n \n		 \n	\n	\n	\n	\n	 \n\n\n\n\n 
URL:https://www.craniosacralelamarea.it/evento/il-ridi-reading-natale-2025/
LOCATION:Scuola di Biodinamica Craniosacrale La Marea – Silea (TV)\, via Roma 13/A\, Silea\, 31057\, Italia
CATEGORIES:Eventi
ATTACH;FMTTYPE=image/png:https://www.craniosacralelamarea.it/wp-content/uploads/2024/11/Betto-2025.png
END:VEVENT
END:VCALENDAR