BEGIN:VCALENDAR
VERSION:2.0
PRODID:-//La Marea - Biodinamica Craniosacrale - ECPv6.15.20//NONSGML v1.0//EN
CALSCALE:GREGORIAN
METHOD:PUBLISH
X-WR-CALNAME:La Marea - Biodinamica Craniosacrale
X-ORIGINAL-URL:https://www.craniosacralelamarea.it
X-WR-CALDESC:Eventi per La Marea - Biodinamica Craniosacrale
REFRESH-INTERVAL;VALUE=DURATION:PT1H
X-Robots-Tag:noindex
X-PUBLISHED-TTL:PT1H
BEGIN:VTIMEZONE
TZID:Europe/Rome
BEGIN:DAYLIGHT
TZOFFSETFROM:+0100
TZOFFSETTO:+0200
TZNAME:CEST
DTSTART:20250330T010000
END:DAYLIGHT
BEGIN:STANDARD
TZOFFSETFROM:+0200
TZOFFSETTO:+0100
TZNAME:CET
DTSTART:20251026T010000
END:STANDARD
BEGIN:DAYLIGHT
TZOFFSETFROM:+0100
TZOFFSETTO:+0200
TZNAME:CEST
DTSTART:20260329T010000
END:DAYLIGHT
BEGIN:STANDARD
TZOFFSETFROM:+0200
TZOFFSETTO:+0100
TZNAME:CET
DTSTART:20261025T010000
END:STANDARD
BEGIN:DAYLIGHT
TZOFFSETFROM:+0100
TZOFFSETTO:+0200
TZNAME:CEST
DTSTART:20270328T010000
END:DAYLIGHT
BEGIN:STANDARD
TZOFFSETFROM:+0200
TZOFFSETTO:+0100
TZNAME:CET
DTSTART:20271031T010000
END:STANDARD
END:VTIMEZONE
BEGIN:VEVENT
DTSTART;VALUE=DATE:20260319
DTEND;VALUE=DATE:20260322
DTSTAMP:20260420T060137
CREATED:20210218T182000Z
LAST-MODIFIED:20251106T153234Z
UID:7190-1773878400-1774137599@www.craniosacralelamarea.it
SUMMARY:Il Respiro della Vita.
DESCRIPTION:SEMINARIO APERTO agli ESTERNI\nUn viaggio nella Biodinamica Craniosacrale\, partendo dalle nostre origini\nConoscere le nostre origini\, attraverso lo studio dell’embriologia\, osservare come si comporta l’embrione attraverso il movimento e la forma\, comprendere bene quali sono i passaggi evolutivi delle prime tre settimane della nostra vita\, ci permette di conoscere i principi della Biodinamica Craniosacrale. \nDal comportamento dell’embrione possiamo cogliere gli “indicatori” che guidano l’ascolto in Biodinamica nel corpo adulto\, il quale non perde mai la possibilità di ri-connettersi con le forze profonde che sono in gioco così precocemente. \nForze che ci plasmano quando siamo embrioni\, ma che continuano ad agire sempre per mantenerci e ripararci durante tutta la Vita. \nIn Biodinamica i sottili movimenti ritmici della Respirazione Primaria\, le Maree\, rappresentano l’espressione nel corpo di queste forze. \nDurante questo seminario teorico-esperienziale oltre allo studio dell’embriologia delle prime tre settimane\, impari a riconoscere e contattare queste forze creando così le migliori condizioni nella persona per accedere alle risorse della Salute intrinseche al corpo\, ed esprimere il proprio potenziale di autoguarigione.  PROGRAMMA DEL SEMINARIO: \n\nLe  prime tre settimane di vita\, dalla fecondazione alla formazione della notocorda\, quale principio organizzatore nello sviluppo dell’embrione.\nLa linea mediana primaria.\nIl Respiro della Vita\, le tre maree e il processo di trasmutazione.\nIl concetto di mobilità e motilità: le forze biocinetiche e le forze biodinamiche.\nI tre corpi: il corpo fisico\, il corpo fluido e il corpo energetico o di marea.\nIl rituale del contatto per una presenza cosciente dell’operatore: come espandere il campo di percezione in relazione a se stessi e all’altro\nIl cambiamento olistico: il “neutro” come vero punto di inizio del trattamento.\nAttingere alle risorse: incoraggiare gli still-point sistemici (CV4 e EV4).\nLa mappa del trattamento in Biodinamica: introduzione al piano di trattamento intrinseco di Rolling Becker.\n\nQUANDO:giovedì 19 Marzo 2026: dalle 9:00 alle 18:00;venerdì 20 Marzo 2026:: dalle 9:00 alle 18:00;sabato 21 Marzo 2026:: dalle 9:00 alle 17:00;COSTI: 475\,80 (390\,00 euro + IVA) 427\,00 (350\,00 euro + IVA) riservato agli ex-allievi della ScuolaMODALITA’ DI PAGAMENTO: A mezzo bonifico bancario a favore di: Istituto Craniosacrale La Marea – Unicredit Banca\, Filiale di Treviso sede ospedale IBAN IT91W0200812015000101690911 Causale: Corso “seminario: il Respiro della Vita 2026”  \n\nCompila il modulo ed attendi qualche istante \nla risposta di avvenuta consegna. Grazie! \nPer info e disponibilità dei posti: +39 392 3189040 anche via WhatsAppo Telegram
URL:https://www.craniosacralelamarea.it/evento/il-respiro-della-vita-2025/
LOCATION:Scuola di Biodinamica Craniosacrale La Marea – Silea (TV)\, via Roma 13/A\, Silea\, 31057\, Italia
CATEGORIES:Eventi
ATTACH;FMTTYPE=image/png:https://www.craniosacralelamarea.it/wp-content/uploads/2021/02/res2-705x340-1.png
END:VEVENT
BEGIN:VEVENT
DTSTART;VALUE=DATE:20260325
DTEND;VALUE=DATE:20260328
DTSTAMP:20260420T060137
CREATED:20210830T155938Z
LAST-MODIFIED:20250926T133912Z
UID:4485-1774396800-1774655999@www.craniosacralelamarea.it
SUMMARY:Seminario di imprinting
DESCRIPTION:Lavorare sul proprio processo di nascita e sulle proprie impronte prenatali\nDI COSA SI TRATTA\nQuesto lavoro\, nasce dalle intuizioni di William Emmerson ed è stato successivamente approfondito da Ray Castellino\, Franklin Sills e integrato da Peter Levine e Stephen Porges. Oggi viene proposto con successo da ricercatori come Dominique Degranges e da persone da lui formate.\nE’ uno strumento efficace per tutti gli operatori impegnati nella relazione d’aiuto ed è una preziosa risorsa per conoscere meglio se stessi\, sicuramente un’esperienza trasformativa valida per tutti coloro che hanno a cuore il proprio processo di “crescita”.\nLa PPN (terapia prenatale e della nascita) parte dal presupposto per cui “Così come sono nata/o così sono nel mondo”: il nostro modo di vivere la relazione con se stessi e con gli altri\, se non viene portata con consapevolezza\, è una continua ripetizione degli schemi che abbiamo creato nel periodo che va dal concepimento alla nascita. Questo perché proprio queste prime esperienze restano impresse nella memoria cellulare della persona e ne condizionano fortemente la vita diventando un’impronta\, un modello da riprodurre\, come un modo di cercare continuamente una risposta\, un completamento\, naturalmente in modo inconsapevole\, agli stimoli esterni.\nLavorare sul proprio processo di nascita dà la possibilità\, a qualsiasi età e qualsiasi sia stata l’esperienza\, di portare alla luce e di sciogliere vissuti che hanno lasciato un segno nel corpo in tempi che risalgono a una memoria pre-verbale.\nDurante il seminario ogni partecipante ha la possibilità di lavorare sul proprio processo di nascita\, di fare esperienza dei molteplici aspetti ad esso collegati e di modificare connessioni e reazioni profondamente ancorate nella propria persona. Il gruppo dei partecipanti viene considerato una sorta di “utero” ed è sempre coinvolto nel lavoro come sostegno al processo in atto. Tale esperienza è un’occasione per conoscere meglio se stessi lavorando su un proprio tema personale\, ma anche e innanzitutto un’opportunità di contattare in modo più diretto e trasparente la verità del corpo\, le sue risorse e le sue enormi potenzialità percettive\, che trovano massima espressione e conferma all’interno del gruppo.\nIl seminario sarà composto da massimo 7 partecipanti e verrà condotto dalla Dott.ssa Paola Battocchio\, coadiuvata da tre assistenti. \n DOCENTE\nPaola Battocchio: operatore di percorsi dei temi di Prenatale e Perinatale\, laureata in psicologia – specializzata in psicoterapia\, operatore di Somatic Experiencing®\, operatore NARM- modello relazionale neuroaffettivo\, Formata in Costellazioni Sistemico Spirituali con Christian R. Kraemer. \n ASSISTENTE\nRoberto Rizzardi: dottore in Infermieristica\, Istruttore di Biodinamica Craniosacrale\ncertificato A.CS.I.\, operatore in Prenatal and Birth Therapy e in Baby Therapy Training. Operatore di Somatic Experiencing® \n Info & Iscrizioni: contatta Roberto Rizzardi al numero +39 333 9254454 oppure scrivi a \nsegreteria@craniosacralelamarea.it
URL:https://www.craniosacralelamarea.it/evento/seminario-di-imprinting/
LOCATION:Scuola di Biodinamica Craniosacrale La Marea – Silea (TV)
CATEGORIES:Eventi,Seminari
ATTACH;FMTTYPE=image/png:https://www.craniosacralelamarea.it/wp-content/uploads/2024/02/Imprinting-newsletter.png
END:VEVENT
END:VCALENDAR